View In:
ArcGIS JavaScript
ArcGIS Online Map Viewer
ArcGIS Earth
ArcMap
View Footprint In:
ArcGIS Online Map Viewer
Service Description: Jerusalem_Township/Ames_Wilhelm_Ditch_to_Lake_Erie
Name: Jerusalem_Township/Ames_Wilhelm_Ditch_to_Lake_Erie
Description:
Single Fused Map Cache: false
Extent:
XMin: 1751502.30373
YMin: 727160.6553100001
XMax: 1754800.08037
YMax: 732989.28379
Spatial Reference: PROJCS["NAD_1983_2011_Ohio_North_ftUS",GEOGCS["GCS_NAD83_2011",DATUM["D_NAD83_National_Spatial_Reference_System_2011",SPHEROID["GRS_1980",6378137.0,298.257222101]],PRIMEM["Greenwich",0.0],UNIT["Degree",0.0174532925199433]],PROJECTION["Lambert_Conformal_Conic"],PARAMETER["false_easting",1968500.0],PARAMETER["false_northing",0.0],PARAMETER["central_meridian",-82.5],PARAMETER["standard_parallel_1",40.43333333333333],PARAMETER["standard_parallel_2",41.7],PARAMETER["latitude_of_origin",39.66666666666666],UNIT["Foot_US",0.3048006096012192]]
Initial Extent:
XMin: 1751502.30373
YMin: 727160.6553100001
XMax: 1754800.08037
YMax: 732989.28379
Spatial Reference: PROJCS["NAD_1983_2011_Ohio_North_ftUS",GEOGCS["GCS_NAD83_2011",DATUM["D_NAD83_National_Spatial_Reference_System_2011",SPHEROID["GRS_1980",6378137.0,298.257222101]],PRIMEM["Greenwich",0.0],UNIT["Degree",0.0174532925199433]],PROJECTION["Lambert_Conformal_Conic"],PARAMETER["false_easting",1968500.0],PARAMETER["false_northing",0.0],PARAMETER["central_meridian",-82.5],PARAMETER["standard_parallel_1",40.43333333333333],PARAMETER["standard_parallel_2",41.7],PARAMETER["latitude_of_origin",39.66666666666666],UNIT["Foot_US",0.3048006096012192]]
Full Extent:
XMin: 1751502.30373
YMin: 727160.6553100001
XMax: 1754800.08037
YMax: 732989.28379
Spatial Reference: PROJCS["NAD_1983_2011_Ohio_North_ftUS",GEOGCS["GCS_NAD83_2011",DATUM["D_NAD83_National_Spatial_Reference_System_2011",SPHEROID["GRS_1980",6378137.0,298.257222101]],PRIMEM["Greenwich",0.0],UNIT["Degree",0.0174532925199433]],PROJECTION["Lambert_Conformal_Conic"],PARAMETER["false_easting",1968500.0],PARAMETER["false_northing",0.0],PARAMETER["central_meridian",-82.5],PARAMETER["standard_parallel_1",40.43333333333333],PARAMETER["standard_parallel_2",41.7],PARAMETER["latitude_of_origin",39.66666666666666],UNIT["Foot_US",0.3048006096012192]]
Pixel Size X: 0.04993000000000083
Pixel Size Y: 0.04992999999999962
Band Count: 3
Pixel Type: U8
RasterFunction Infos: {"rasterFunctionInfos": [{
"name": "None",
"description": "",
"help": ""
}]}
Mensuration Capabilities: Basic
Has Histograms: true
Has Colormap: false
Has Multi Dimensions : false
Rendering Rule:
Min Scale: 0
Max Scale: 0
Copyright Text:
Service Data Type: esriImageServiceDataTypeRGB
Min Values: 0, 0, 0
Max Values: 255, 255, 255
Mean Values: 32.574224021592, 31.78326585695, 29.699190283401
Standard Deviation Values: 69.976620036933, 68.286962896404, 64.067725737111
Object ID Field:
Fields:
None
Default Mosaic Method: Center
Allowed Mosaic Methods:
SortField:
SortValue: null
Mosaic Operator: First
Default Compression Quality: 75
Default Resampling Method: Bilinear
Max Record Count: null
Max Image Height: 4100
Max Image Width: 15000
Max Download Image Count: null
Max Mosaic Image Count: null
Allow Raster Function: true
Allow Copy: false
Allow Analysis: false
Allow Compute TiePoints: false
Supports Statistics: false
Supports Advanced Queries: false
Use StandardizedQueries: true
Raster Type Infos:
Name: Raster Dataset
Description: Supports all ArcGIS Raster Datasets
Help:
Has Raster Attribute Table: false
Edit Fields Info: null
Ownership Based AccessControl For Rasters: null
Child Resources:
Info
Histograms
Statistics
Key Properties
Legend
Raster Function Infos
Supported Operations:
Export Image
Identify
Measure
Compute Histograms
Compute Statistics Histograms
Get Samples
Compute Class Statistics
Query Boundary
Compute Pixel Location
Compute Angles
Validate
Project