{
 "currentVersion": 10.91,
 "serviceDescription": "Jerusalem_Township/Reno_Beach_Howard_Farms_Conservancy_District",
 "name": "Jerusalem_Township/Reno_Beach_Howard_Farms_Conservancy_District",
 "description": "",
 "extent": {
  "xmin": 1754047.87477,
  "ymin": 721057.8808500001,
  "xmax": 1766994.57997,
  "ymax": 733225.4152500001,
  "spatialReference": {
   "wkt": "PROJCS[\"NAD_1983_2011_Ohio_North_ftUS\",GEOGCS[\"GCS_NAD83_2011\",DATUM[\"D_NAD83_National_Spatial_Reference_System_2011\",SPHEROID[\"GRS_1980\",6378137.0,298.257222101]],PRIMEM[\"Greenwich\",0.0],UNIT[\"Degree\",0.0174532925199433]],PROJECTION[\"Lambert_Conformal_Conic\"],PARAMETER[\"false_easting\",1968500.0],PARAMETER[\"false_northing\",0.0],PARAMETER[\"central_meridian\",-82.5],PARAMETER[\"standard_parallel_1\",40.43333333333333],PARAMETER[\"standard_parallel_2\",41.7],PARAMETER[\"latitude_of_origin\",39.66666666666666],UNIT[\"Foot_US\",0.3048006096012192]]"
  }
 },
 "initialExtent": {
  "xmin": 1754047.87477,
  "ymin": 721057.8808500001,
  "xmax": 1766994.57997,
  "ymax": 733225.4152500001,
  "spatialReference": {
   "wkt": "PROJCS[\"NAD_1983_2011_Ohio_North_ftUS\",GEOGCS[\"GCS_NAD83_2011\",DATUM[\"D_NAD83_National_Spatial_Reference_System_2011\",SPHEROID[\"GRS_1980\",6378137.0,298.257222101]],PRIMEM[\"Greenwich\",0.0],UNIT[\"Degree\",0.0174532925199433]],PROJECTION[\"Lambert_Conformal_Conic\"],PARAMETER[\"false_easting\",1968500.0],PARAMETER[\"false_northing\",0.0],PARAMETER[\"central_meridian\",-82.5],PARAMETER[\"standard_parallel_1\",40.43333333333333],PARAMETER[\"standard_parallel_2\",41.7],PARAMETER[\"latitude_of_origin\",39.66666666666666],UNIT[\"Foot_US\",0.3048006096012192]]"
  }
 },
 "fullExtent": {
  "xmin": 1754047.87477,
  "ymin": 721057.8808500001,
  "xmax": 1766994.57997,
  "ymax": 733225.4152500001,
  "spatialReference": {
   "wkt": "PROJCS[\"NAD_1983_2011_Ohio_North_ftUS\",GEOGCS[\"GCS_NAD83_2011\",DATUM[\"D_NAD83_National_Spatial_Reference_System_2011\",SPHEROID[\"GRS_1980\",6378137.0,298.257222101]],PRIMEM[\"Greenwich\",0.0],UNIT[\"Degree\",0.0174532925199433]],PROJECTION[\"Lambert_Conformal_Conic\"],PARAMETER[\"false_easting\",1968500.0],PARAMETER[\"false_northing\",0.0],PARAMETER[\"central_meridian\",-82.5],PARAMETER[\"standard_parallel_1\",40.43333333333333],PARAMETER[\"standard_parallel_2\",41.7],PARAMETER[\"latitude_of_origin\",39.66666666666666],UNIT[\"Foot_US\",0.3048006096012192]]"
  }
 },
 "hasMultidimensions": false,
 "pixelSizeX": 0.04979999999999987,
 "pixelSizeY": 0.04980000000000002,
 "datasetFormat": "MrSID",
 "uncompressedSize": 190556782416,
 "blockWidth": 1024,
 "blockHeight": 128,
 "compressionType": "Wavelet (MG3)",
 "bandNames": [
  "Band_1",
  "Band_2",
  "Band_3"
 ],
 "allowCopy": false,
 "allowAnalysis": false,
 "bandCount": 3,
 "pixelType": "U8",
 "minPixelSize": 0,
 "maxPixelSize": 0,
 "copyrightText": "",
 "serviceDataType": "esriImageServiceDataTypeRGB",
 "serviceSourceType": "esriImageServiceSourceTypeDataset",
 "minValues": [
  0,
  0,
  0
 ],
 "maxValues": [
  250,
  249,
  214
 ],
 "meanValues": [
  22.22578125,
  21.739322916667,
  20.0515625
 ],
 "stdvValues": [
  56.722127993202,
  55.252394514098,
  51.153582552694
 ],
 "objectIdField": "",
 "fields": [],
 "capabilities": "Image,Metadata,Mensuration",
 "defaultMosaicMethod": "Center",
 "allowedMosaicMethods": "",
 "sortField": "",
 "sortValue": null,
 "sortAscending": true,
 "mosaicOperator": "First",
 "defaultCompressionQuality": 75,
 "defaultResamplingMethod": "Bilinear",
 "maxImageHeight": 4100,
 "maxImageWidth": 15000,
 "allowRasterFunction": true,
 "rasterFunctionInfos": [
  {
   "name": "None",
   "description": "",
   "help": ""
  }
 ],
 "rasterTypeInfos": [
  {
   "name": "Raster Dataset",
   "description": "Supports all ArcGIS Raster Datasets",
   "help": ""
  }
 ],
 "mensurationCapabilities": "Basic",
 "hasHistograms": true,
 "hasColormap": false,
 "hasRasterAttributeTable": false,
 "minScale": 0,
 "maxScale": 0,
 "exportTilesAllowed": false,
 "supportsStatistics": false,
 "supportsAdvancedQueries": false,
 "editFieldsInfo": null,
 "ownershipBasedAccessControlForRasters": null,
 "allowComputeTiePoints": false,
 "useStandardizedQueries": true,
 "advancedQueryCapabilities": {
  "useStandardizedQueries": true,
  "supportsStatistics": false,
  "supportsOrderBy": false,
  "supportsDistinct": false,
  "supportsPagination": false
 },
 "spatialReference": {
  "wkt": "PROJCS[\"NAD_1983_2011_Ohio_North_ftUS\",GEOGCS[\"GCS_NAD83_2011\",DATUM[\"D_NAD83_National_Spatial_Reference_System_2011\",SPHEROID[\"GRS_1980\",6378137.0,298.257222101]],PRIMEM[\"Greenwich\",0.0],UNIT[\"Degree\",0.0174532925199433]],PROJECTION[\"Lambert_Conformal_Conic\"],PARAMETER[\"false_easting\",1968500.0],PARAMETER[\"false_northing\",0.0],PARAMETER[\"central_meridian\",-82.5],PARAMETER[\"standard_parallel_1\",40.43333333333333],PARAMETER[\"standard_parallel_2\",41.7],PARAMETER[\"latitude_of_origin\",39.66666666666666],UNIT[\"Foot_US\",0.3048006096012192]]"
 }
}
